Package: SpectriPy Version: 1.1.0 Command: /Library/Frameworks/R.framework/Resources/bin/R CMD INSTALL SpectriPy StartedAt: 2025-11-18 15:20:59 -0500 (Tue, 18 Nov 2025) EndedAt: 2025-11-18 15:21:08 -0500 (Tue, 18 Nov 2025) EllapsedTime: 8.4 seconds RetCode: 1 Status: ERROR