Package: SpectriPy Version: 1.1.0 Command: /Library/Frameworks/R.framework/Resources/bin/R CMD build --keep-empty-dirs --no-resave-data SpectriPy StartedAt: 2025-11-18 18:48:31 -0500 (Tue, 18 Nov 2025) EndedAt: 2025-11-18 18:51:28 -0500 (Tue, 18 Nov 2025) EllapsedTime: 176.9 seconds RetCode: 0 Status: OK PackageFile: SpectriPy_1.1.0.tar.gz PackageFileSize: 1002 KiB