Package: SpectriPy Version: 1.1.0 Command: /Library/Frameworks/R.framework/Resources/bin/R CMD INSTALL SpectriPy StartedAt: 2025-11-19 15:22:52 -0500 (Wed, 19 Nov 2025) EndedAt: 2025-11-19 15:23:45 -0500 (Wed, 19 Nov 2025) EllapsedTime: 52.3 seconds RetCode: 0 Status: OK