Package: SpectriPy Version: 1.1.0 Command: /home/biocbuild/bbs-3.23-bioc/R/bin/R CMD build --keep-empty-dirs --no-resave-data SpectriPy StartedAt: 2025-11-23 20:14:47 -0500 (Sun, 23 Nov 2025) EndedAt: 2025-11-23 20:23:37 -0500 (Sun, 23 Nov 2025) EllapsedTime: 529.5 seconds RetCode: 0 Status: OK PackageFile: SpectriPy_1.1.0.tar.gz PackageFileSize: 1.01 MiB