Package: SpectriPy Version: 1.1.0 Command: /home/biocbuild/bbs-3.23-bioc/R/bin/R CMD INSTALL SpectriPy StartedAt: 2025-11-23 15:15:49 -0500 (Sun, 23 Nov 2025) EndedAt: 2025-11-23 15:16:20 -0500 (Sun, 23 Nov 2025) EllapsedTime: 31.3 seconds RetCode: 0 Status: OK