Package: SplicingFactory Version: 1.19.0 Command: rm -rf SplicingFactory.buildbin-libdir && mkdir SplicingFactory.buildbin-libdir && /Users/biocbuild/BBS/utils/build-universal.sh SplicingFactory_1.19.0.tar.gz /Library/Frameworks/R.framework/Resources/bin/R SplicingFactory.buildbin-libdir StartedAt: 2025-11-19 00:01:27 -0500 (Wed, 19 Nov 2025) EndedAt: 2025-11-19 00:01:38 -0500 (Wed, 19 Nov 2025) EllapsedTime: 11.2 seconds RetCode: 0 Status: OK PackageFile: SplicingFactory_1.19.0.tgz PackageFileSize: 828.9 KiB