Package: SplicingFactory Version: 1.19.0 Command: /Library/Frameworks/R.framework/Resources/bin/R CMD INSTALL SplicingFactory StartedAt: 2025-11-18 15:24:47 -0500 (Tue, 18 Nov 2025) EndedAt: 2025-11-18 15:24:55 -0500 (Tue, 18 Nov 2025) EllapsedTime: 7.7 seconds RetCode: 0 Status: OK