Package: SplicingFactory Version: 1.19.0 Command: /Library/Frameworks/R.framework/Resources/bin/R CMD build --keep-empty-dirs --no-resave-data SplicingFactory StartedAt: 2025-11-21 18:51:35 -0500 (Fri, 21 Nov 2025) EndedAt: 2025-11-21 18:52:15 -0500 (Fri, 21 Nov 2025) EllapsedTime: 40.0 seconds RetCode: 0 Status: OK PackageFile: SplicingFactory_1.19.0.tar.gz PackageFileSize: 790.8 KiB