Package: SplicingFactory Version: 1.19.0 Command: /Library/Frameworks/R.framework/Resources/bin/R CMD INSTALL SplicingFactory StartedAt: 2025-11-21 15:28:05 -0500 (Fri, 21 Nov 2025) EndedAt: 2025-11-21 15:28:32 -0500 (Fri, 21 Nov 2025) EllapsedTime: 26.8 seconds RetCode: 0 Status: OK