Package: SplicingFactory Version: 1.19.0 Command: /home/biocbuild/bbs-3.23-bioc/R/bin/R CMD INSTALL SplicingFactory StartedAt: 2025-11-19 15:26:01 -0500 (Wed, 19 Nov 2025) EndedAt: 2025-11-19 15:26:19 -0500 (Wed, 19 Nov 2025) EllapsedTime: 19.0 seconds RetCode: 0 Status: OK