Package: SplicingGraphs Version: 1.51.1 Command: /Library/Frameworks/R.framework/Resources/bin/R CMD INSTALL SplicingGraphs StartedAt: 2025-11-18 15:30:53 -0500 (Tue, 18 Nov 2025) EndedAt: 2025-11-18 15:31:09 -0500 (Tue, 18 Nov 2025) EllapsedTime: 16.7 seconds RetCode: 0 Status: OK