Package: SplicingGraphs Version: 1.51.1 Command: rm -rf SplicingGraphs.buildbin-libdir && mkdir SplicingGraphs.buildbin-libdir && /Users/biocbuild/BBS/utils/build-universal.sh SplicingGraphs_1.51.1.tar.gz /Library/Frameworks/R.framework/Resources/bin/R SplicingGraphs.buildbin-libdir StartedAt: 2025-11-20 01:59:00 -0500 (Thu, 20 Nov 2025) EndedAt: 2025-11-20 01:59:59 -0500 (Thu, 20 Nov 2025) EllapsedTime: 59.0 seconds RetCode: 0 Status: OK PackageFile: SplicingGraphs_1.51.1.tgz PackageFileSize: 4.804 MiB