Package: SplicingGraphs Version: 1.51.1 Command: /Library/Frameworks/R.framework/Resources/bin/R CMD build --keep-empty-dirs --no-resave-data SplicingGraphs StartedAt: 2025-11-18 18:49:40 -0500 (Tue, 18 Nov 2025) EndedAt: 2025-11-18 18:54:43 -0500 (Tue, 18 Nov 2025) EllapsedTime: 302.6 seconds RetCode: 0 Status: OK PackageFile: SplicingGraphs_1.51.1.tar.gz PackageFileSize: 4.471 MiB