Package: SplicingGraphs Version: 1.51.1 Command: /Library/Frameworks/R.framework/Resources/bin/R CMD INSTALL SplicingGraphs StartedAt: 2025-11-18 15:38:02 -0500 (Tue, 18 Nov 2025) EndedAt: 2025-11-18 15:38:57 -0500 (Tue, 18 Nov 2025) EllapsedTime: 54.9 seconds RetCode: 0 Status: OK