Package: SplicingGraphs Version: 1.51.1 Command: /home/biocbuild/bbs-3.23-bioc/R/bin/R CMD INSTALL SplicingGraphs StartedAt: 2025-11-18 16:31:30 -0500 (Tue, 18 Nov 2025) EndedAt: 2025-11-18 16:32:11 -0500 (Tue, 18 Nov 2025) EllapsedTime: 40.8 seconds RetCode: 0 Status: OK