Package: StabMap Version: 1.5.0 Command: /Library/Frameworks/R.framework/Resources/bin/R CMD build --keep-empty-dirs --no-resave-data StabMap StartedAt: 2025-11-25 17:51:08 -0500 (Tue, 25 Nov 2025) EndedAt: 2025-11-25 17:52:54 -0500 (Tue, 25 Nov 2025) EllapsedTime: 106.2 seconds RetCode: 0 Status: OK PackageFile: StabMap_1.5.0.tar.gz PackageFileSize: 2.09 MiB