Package: Structstrings Version: 1.27.0 Command: /Library/Frameworks/R.framework/Resources/bin/R CMD build --keep-empty-dirs --no-resave-data Structstrings StartedAt: 2025-11-19 17:51:24 -0500 (Wed, 19 Nov 2025) EndedAt: 2025-11-19 17:51:36 -0500 (Wed, 19 Nov 2025) EllapsedTime: 12.1 seconds RetCode: 0 Status: OK PackageFile: Structstrings_1.27.0.tar.gz PackageFileSize: 373.4 KiB