Package: Structstrings Version: 1.27.0 Command: rm -rf Structstrings.buildbin-libdir && mkdir Structstrings.buildbin-libdir && /Users/biocbuild/BBS/utils/build-universal.sh Structstrings_1.27.0.tar.gz /Library/Frameworks/R.framework/Resources/bin/R Structstrings.buildbin-libdir StartedAt: 2025-11-20 01:59:44 -0500 (Thu, 20 Nov 2025) EndedAt: 2025-11-20 02:00:14 -0500 (Thu, 20 Nov 2025) EllapsedTime: 30.1 seconds RetCode: 0 Status: OK PackageFile: Structstrings_1.27.0.tgz PackageFileSize: 809.7 KiB