Package: Structstrings Version: 1.27.0 Command: /Library/Frameworks/R.framework/Resources/bin/R CMD build --keep-empty-dirs --no-resave-data Structstrings StartedAt: 2025-11-19 18:56:38 -0500 (Wed, 19 Nov 2025) EndedAt: 2025-11-19 18:57:12 -0500 (Wed, 19 Nov 2025) EllapsedTime: 34.3 seconds RetCode: 0 Status: OK PackageFile: Structstrings_1.27.0.tar.gz PackageFileSize: 373.3 KiB