Package: Structstrings Version: 1.27.0 Command: /Library/Frameworks/R.framework/Resources/bin/R CMD INSTALL Structstrings StartedAt: 2025-11-19 15:24:04 -0500 (Wed, 19 Nov 2025) EndedAt: 2025-11-19 15:24:33 -0500 (Wed, 19 Nov 2025) EllapsedTime: 28.1 seconds RetCode: 0 Status: OK