Package: Structstrings Version: 1.27.0 Command: /home/biocbuild/bbs-3.23-bioc/R/bin/R CMD INSTALL Structstrings StartedAt: 2025-11-19 15:20:22 -0500 (Wed, 19 Nov 2025) EndedAt: 2025-11-19 15:20:38 -0500 (Wed, 19 Nov 2025) EllapsedTime: 16.6 seconds RetCode: 0 Status: OK