Package: StructuralVariantAnnotation Version: 1.27.0 Command: rm -rf StructuralVariantAnnotation.buildbin-libdir && mkdir StructuralVariantAnnotation.buildbin-libdir && /Users/biocbuild/BBS/utils/build-universal.sh StructuralVariantAnnotation_1.27.0.tar.gz /Library/Frameworks/R.framework/Resources/bin/R StructuralVariantAnnotation.buildbin-libdir StartedAt: 2025-11-19 23:55:21 -0500 (Wed, 19 Nov 2025) EndedAt: 2025-11-19 23:55:41 -0500 (Wed, 19 Nov 2025) EllapsedTime: 20.5 seconds RetCode: 0 Status: OK PackageFile: StructuralVariantAnnotation_1.27.0.tgz PackageFileSize: 1.072 MiB