Package: StructuralVariantAnnotation Version: 1.27.0 Command: /Library/Frameworks/R.framework/Resources/bin/R CMD INSTALL StructuralVariantAnnotation StartedAt: 2025-11-19 15:47:02 -0500 (Wed, 19 Nov 2025) EndedAt: 2025-11-19 15:47:58 -0500 (Wed, 19 Nov 2025) EllapsedTime: 56.3 seconds RetCode: 0 Status: OK