Package: SubCellBarCode Version: 1.27.0 Command: rm -rf SubCellBarCode.buildbin-libdir && mkdir SubCellBarCode.buildbin-libdir && /Users/biocbuild/BBS/utils/build-universal.sh SubCellBarCode_1.27.0.tar.gz /Library/Frameworks/R.framework/Resources/bin/R SubCellBarCode.buildbin-libdir StartedAt: 2025-11-20 01:59:45 -0500 (Thu, 20 Nov 2025) EndedAt: 2025-11-20 02:00:21 -0500 (Thu, 20 Nov 2025) EllapsedTime: 35.8 seconds RetCode: 0 Status: OK PackageFile: SubCellBarCode_1.27.0.tgz PackageFileSize: 2.744 MiB