Package: SubCellBarCode Version: 1.27.0 Command: /Library/Frameworks/R.framework/Resources/bin/R CMD build --keep-empty-dirs --no-resave-data SubCellBarCode StartedAt: 2025-11-19 18:57:08 -0500 (Wed, 19 Nov 2025) EndedAt: 2025-11-19 19:01:02 -0500 (Wed, 19 Nov 2025) EllapsedTime: 234.4 seconds RetCode: 0 Status: OK PackageFile: SubCellBarCode_1.27.0.tar.gz PackageFileSize: 2.344 MiB