Package: SubCellBarCode Version: 1.27.0 Command: /Library/Frameworks/R.framework/Resources/bin/R CMD INSTALL SubCellBarCode StartedAt: 2025-11-19 15:29:54 -0500 (Wed, 19 Nov 2025) EndedAt: 2025-11-19 15:30:27 -0500 (Wed, 19 Nov 2025) EllapsedTime: 33.0 seconds RetCode: 0 Status: OK