Package: SubCellBarCode Version: 1.27.0 Command: /home/biocbuild/bbs-3.23-bioc/R/bin/R CMD build --keep-empty-dirs --no-resave-data SubCellBarCode StartedAt: 2025-11-19 20:24:50 -0500 (Wed, 19 Nov 2025) EndedAt: 2025-11-19 20:29:31 -0500 (Wed, 19 Nov 2025) EllapsedTime: 281.3 seconds RetCode: 0 Status: OK PackageFile: SubCellBarCode_1.27.0.tar.gz PackageFileSize: 2.306 MiB