Package: SubCellBarCode Version: 1.27.0 Command: /home/biocbuild/bbs-3.23-bioc/R/bin/R CMD INSTALL SubCellBarCode StartedAt: 2025-11-19 15:29:57 -0500 (Wed, 19 Nov 2025) EndedAt: 2025-11-19 15:30:21 -0500 (Wed, 19 Nov 2025) EllapsedTime: 24.2 seconds RetCode: 0 Status: OK