Package: TCGAutils Version: 1.31.3 Command: /Library/Frameworks/R.framework/Resources/bin/R CMD build --keep-empty-dirs --no-resave-data TCGAutils StartedAt: 2025-11-18 18:04:29 -0500 (Tue, 18 Nov 2025) EndedAt: 2025-11-18 18:05:50 -0500 (Tue, 18 Nov 2025) EllapsedTime: 80.9 seconds RetCode: 0 Status: OK PackageFile: TCGAutils_1.31.3.tar.gz PackageFileSize: 399.5 KiB