Package: TCGAutils Version: 1.31.3 Command: /Library/Frameworks/R.framework/Resources/bin/R CMD INSTALL TCGAutils StartedAt: 2025-11-18 15:33:02 -0500 (Tue, 18 Nov 2025) EndedAt: 2025-11-18 15:33:18 -0500 (Tue, 18 Nov 2025) EllapsedTime: 16.2 seconds RetCode: 0 Status: OK