Package: TCGAutils Version: 1.31.3 Command: /Library/Frameworks/R.framework/Resources/bin/R CMD INSTALL TCGAutils StartedAt: 2025-11-18 15:41:11 -0500 (Tue, 18 Nov 2025) EndedAt: 2025-11-18 15:42:03 -0500 (Tue, 18 Nov 2025) EllapsedTime: 51.7 seconds RetCode: 0 Status: OK