Package: TCGAutils Version: 1.31.3 Command: /home/biocbuild/bbs-3.23-bioc/R/bin/R CMD build --keep-empty-dirs --no-resave-data TCGAutils StartedAt: 2025-11-18 21:18:22 -0500 (Tue, 18 Nov 2025) EndedAt: 2025-11-18 21:21:06 -0500 (Tue, 18 Nov 2025) EllapsedTime: 163.4 seconds RetCode: 0 Status: OK PackageFile: TCGAutils_1.31.3.tar.gz PackageFileSize: 405.8 KiB