Package: TileDBArray Version: 1.21.0 Command: /Library/Frameworks/R.framework/Resources/bin/R CMD build --keep-empty-dirs --no-resave-data TileDBArray StartedAt: 2025-11-18 18:06:47 -0500 (Tue, 18 Nov 2025) EndedAt: 2025-11-18 18:07:03 -0500 (Tue, 18 Nov 2025) EllapsedTime: 16.2 seconds RetCode: 0 Status: OK PackageFile: TileDBArray_1.21.0.tar.gz PackageFileSize: 305.1 KiB