Package: TileDBArray Version: 1.21.0 Command: rm -rf TileDBArray.buildbin-libdir && mkdir TileDBArray.buildbin-libdir && /Users/biocbuild/BBS/utils/build-universal.sh TileDBArray_1.21.0.tar.gz /Library/Frameworks/R.framework/Resources/bin/R TileDBArray.buildbin-libdir StartedAt: 2025-11-20 02:01:01 -0500 (Thu, 20 Nov 2025) EndedAt: 2025-11-20 02:01:34 -0500 (Thu, 20 Nov 2025) EllapsedTime: 33.4 seconds RetCode: 0 Status: OK PackageFile: TileDBArray_1.21.0.tgz PackageFileSize: 748.5 KiB