Package: TileDBArray Version: 1.21.0 Command: /Library/Frameworks/R.framework/Resources/bin/R CMD build --keep-empty-dirs --no-resave-data TileDBArray StartedAt: 2025-11-19 19:01:56 -0500 (Wed, 19 Nov 2025) EndedAt: 2025-11-19 19:02:35 -0500 (Wed, 19 Nov 2025) EllapsedTime: 39.3 seconds RetCode: 0 Status: OK PackageFile: TileDBArray_1.21.0.tar.gz PackageFileSize: 305.1 KiB