Package: TileDBArray Version: 1.21.0 Command: /Library/Frameworks/R.framework/Resources/bin/R CMD INSTALL TileDBArray StartedAt: 2025-11-18 15:22:00 -0500 (Tue, 18 Nov 2025) EndedAt: 2025-11-18 15:22:32 -0500 (Tue, 18 Nov 2025) EllapsedTime: 31.9 seconds RetCode: 0 Status: OK