Package: TrajectoryGeometry Version: 1.19.0 Command: /Library/Frameworks/R.framework/Resources/bin/R CMD build --keep-empty-dirs --no-resave-data TrajectoryGeometry StartedAt: 2025-11-18 18:08:48 -0500 (Tue, 18 Nov 2025) EndedAt: 2025-11-18 18:10:36 -0500 (Tue, 18 Nov 2025) EllapsedTime: 108.2 seconds RetCode: 0 Status: OK PackageFile: TrajectoryGeometry_1.19.0.tar.gz PackageFileSize: 1.894 MiB