Package: TrajectoryGeometry Version: 1.19.0 Command: /Library/Frameworks/R.framework/Resources/bin/R CMD INSTALL TrajectoryGeometry StartedAt: 2025-11-18 15:15:16 -0500 (Tue, 18 Nov 2025) EndedAt: 2025-11-18 15:15:20 -0500 (Tue, 18 Nov 2025) EllapsedTime: 4.2 seconds RetCode: 0 Status: OK