Package: TrajectoryGeometry Version: 1.19.0 Command: /home/biocbuild/bbs-3.23-bioc/R/bin/R CMD build --keep-empty-dirs --no-resave-data TrajectoryGeometry StartedAt: 2025-11-18 21:24:17 -0500 (Tue, 18 Nov 2025) EndedAt: 2025-11-18 21:28:43 -0500 (Tue, 18 Nov 2025) EllapsedTime: 266.2 seconds RetCode: 0 Status: OK PackageFile: TrajectoryGeometry_1.19.0.tar.gz PackageFileSize: 1.892 MiB