Package: TrajectoryUtils Version: 1.19.0 Command: /Library/Frameworks/R.framework/Resources/bin/R CMD build --keep-empty-dirs --no-resave-data TrajectoryUtils StartedAt: 2025-11-18 18:08:49 -0500 (Tue, 18 Nov 2025) EndedAt: 2025-11-18 18:09:06 -0500 (Tue, 18 Nov 2025) EllapsedTime: 17.2 seconds RetCode: 0 Status: OK PackageFile: TrajectoryUtils_1.19.0.tar.gz PackageFileSize: 340.9 KiB