Package: TrajectoryUtils Version: 1.19.0 Command: /Library/Frameworks/R.framework/Resources/bin/R CMD INSTALL TrajectoryUtils StartedAt: 2025-11-18 15:26:02 -0500 (Tue, 18 Nov 2025) EndedAt: 2025-11-18 15:26:13 -0500 (Tue, 18 Nov 2025) EllapsedTime: 10.2 seconds RetCode: 0 Status: OK