Package: TrajectoryUtils Version: 1.19.0 Command: /home/biocbuild/bbs-3.23-bioc/R/bin/R CMD build --keep-empty-dirs --no-resave-data TrajectoryUtils StartedAt: 2025-11-18 21:24:25 -0500 (Tue, 18 Nov 2025) EndedAt: 2025-11-18 21:24:59 -0500 (Tue, 18 Nov 2025) EllapsedTime: 34.0 seconds RetCode: 0 Status: OK PackageFile: TrajectoryUtils_1.19.0.tar.gz PackageFileSize: 334.3 KiB