Package: TreeSummarizedExperiment Version: 2.19.0 Command: /Library/Frameworks/R.framework/Resources/bin/R CMD build --keep-empty-dirs --no-resave-data TreeSummarizedExperiment StartedAt: 2025-11-18 18:09:59 -0500 (Tue, 18 Nov 2025) EndedAt: 2025-11-18 18:10:26 -0500 (Tue, 18 Nov 2025) EllapsedTime: 27.3 seconds RetCode: 0 Status: OK PackageFile: TreeSummarizedExperiment_2.19.0.tar.gz PackageFileSize: 1.104 MiB