Package: TreeSummarizedExperiment Version: 2.19.0 Command: /Library/Frameworks/R.framework/Resources/bin/R CMD INSTALL TreeSummarizedExperiment StartedAt: 2025-11-18 15:25:47 -0500 (Tue, 18 Nov 2025) EndedAt: 2025-11-18 15:26:00 -0500 (Tue, 18 Nov 2025) EllapsedTime: 12.8 seconds RetCode: 0 Status: OK