Package: TreeSummarizedExperiment Version: 2.19.0 Command: rm -rf TreeSummarizedExperiment.buildbin-libdir && mkdir TreeSummarizedExperiment.buildbin-libdir && /Users/biocbuild/BBS/utils/build-universal.sh TreeSummarizedExperiment_2.19.0.tar.gz /Library/Frameworks/R.framework/Resources/bin/R TreeSummarizedExperiment.buildbin-libdir StartedAt: 2025-11-19 01:57:39 -0500 (Wed, 19 Nov 2025) EndedAt: 2025-11-19 01:58:28 -0500 (Wed, 19 Nov 2025) EllapsedTime: 48.4 seconds RetCode: 0 Status: OK PackageFile: TreeSummarizedExperiment_2.19.0.tgz PackageFileSize: 1.831 MiB