Package: TreeSummarizedExperiment Version: 2.19.0 Command: /Library/Frameworks/R.framework/Resources/bin/R CMD INSTALL TreeSummarizedExperiment StartedAt: 2025-11-18 15:28:37 -0500 (Tue, 18 Nov 2025) EndedAt: 2025-11-18 15:29:21 -0500 (Tue, 18 Nov 2025) EllapsedTime: 43.5 seconds RetCode: 0 Status: OK