Package: TreeSummarizedExperiment Version: 2.19.0 Command: /home/biocbuild/bbs-3.23-bioc/R/bin/R CMD INSTALL TreeSummarizedExperiment StartedAt: 2025-11-18 16:17:04 -0500 (Tue, 18 Nov 2025) EndedAt: 2025-11-18 16:17:36 -0500 (Tue, 18 Nov 2025) EllapsedTime: 31.7 seconds RetCode: 0 Status: OK