Package: VCFArray Version: 1.27.0 Command: rm -rf VCFArray.buildbin-libdir && mkdir VCFArray.buildbin-libdir && /Users/biocbuild/BBS/utils/build-universal.sh VCFArray_1.27.0.tar.gz /Library/Frameworks/R.framework/Resources/bin/R VCFArray.buildbin-libdir StartedAt: 2025-11-19 23:57:32 -0500 (Wed, 19 Nov 2025) EndedAt: 2025-11-19 23:57:53 -0500 (Wed, 19 Nov 2025) EllapsedTime: 21.4 seconds RetCode: 0 Status: OK PackageFile: VCFArray_1.27.0.tgz PackageFileSize: 1.04 MiB