Package: VCFArray Version: 1.27.0 Command: /Library/Frameworks/R.framework/Resources/bin/R CMD INSTALL VCFArray StartedAt: 2025-11-19 15:31:22 -0500 (Wed, 19 Nov 2025) EndedAt: 2025-11-19 15:31:40 -0500 (Wed, 19 Nov 2025) EllapsedTime: 18.5 seconds RetCode: 0 Status: OK