Package: VCFArray Version: 1.27.0 Command: /Library/Frameworks/R.framework/Resources/bin/R CMD build --keep-empty-dirs --no-resave-data VCFArray StartedAt: 2025-11-19 19:07:57 -0500 (Wed, 19 Nov 2025) EndedAt: 2025-11-19 19:09:23 -0500 (Wed, 19 Nov 2025) EllapsedTime: 85.9 seconds RetCode: 0 Status: OK PackageFile: VCFArray_1.27.0.tar.gz PackageFileSize: 302.6 KiB